BEGIN:VCALENDAR
VERSION:2.0
PRODID:-//Safi Butler - ECPv5.8.1//NONSGML v1.0//EN
CALSCALE:GREGORIAN
METHOD:PUBLISH
X-WR-CALNAME:Safi Butler
X-ORIGINAL-URL:http://safibutlerart.co.uk
X-WR-CALDESC:Events for Safi Butler
BEGIN:VTIMEZONE
TZID:Europe/London
BEGIN:DAYLIGHT
TZOFFSETFROM:+0000
TZOFFSETTO:+0100
TZNAME:BST
DTSTART:20200329T010000
END:DAYLIGHT
BEGIN:STANDARD
TZOFFSETFROM:+0100
TZOFFSETTO:+0000
TZNAME:GMT
DTSTART:20201025T010000
END:STANDARD
END:VTIMEZONE
BEGIN:VEVENT
DTSTART;VALUE=DATE:20200711
DTEND;VALUE=DATE:20200726
DTSTAMP:20260420T121744
CREATED:20200708T130306Z
LAST-MODIFIED:20200709T154329Z
UID:186-1594425600-1595721599@safibutlerart.co.uk
SUMMARY:The Belated Spring Art Show\, Norwich
DESCRIPTION:  \nI’ll be taking part in the belated Spring Art Show. This exhibition should have taken place at the Forum back in April\, but due to Lockdown was cancelled. \nIt will now take place from 11th to 25th July\, with social distancing measures in place. \nhttps://www.edp24.co.uk/going-out/belated-spring-art-show-exhibition-opens-this-month-in-pivotal-house-norwich-1-6727268
URL:http://safibutlerart.co.uk/event/the-belated-spring-art-show-norwich/
LOCATION:pivotol house\, norwich\, NR1 3TB\, Pivotal House\, Norwich\, Norfolk\, NR1 3TB
END:VEVENT
END:VCALENDAR