BEGIN:VCALENDAR
VERSION:2.0
PRODID:-//Safi Butler - ECPv5.8.1//NONSGML v1.0//EN
CALSCALE:GREGORIAN
METHOD:PUBLISH
X-WR-CALNAME:Safi Butler
X-ORIGINAL-URL:http://safibutlerart.co.uk
X-WR-CALDESC:Events for Safi Butler
BEGIN:VTIMEZONE
TZID:Europe/London
BEGIN:DAYLIGHT
TZOFFSETFROM:+0000
TZOFFSETTO:+0100
TZNAME:BST
DTSTART:20230326T010000
END:DAYLIGHT
BEGIN:STANDARD
TZOFFSETFROM:+0100
TZOFFSETTO:+0000
TZNAME:GMT
DTSTART:20231029T010000
END:STANDARD
END:VTIMEZONE
BEGIN:VEVENT
DTSTART;TZID=Europe/London:20230917T093000
DTEND;TZID=Europe/London:20230917T123000
DTSTAMP:20260420T150134
CREATED:20230825T142524Z
LAST-MODIFIED:20230825T142524Z
UID:317-1694943000-1694953800@safibutlerart.co.uk
SUMMARY:Lino Printing Workshop - Create a jigsaw cut
DESCRIPTION:Learn how to design\, cut and print a jigsaw cut lino print. Create beautiful prints to be proud of. \nWhat is a jigsaw cut? It’s an easy way to print with 2 colours\, but only use one piece of lino (called a ‘plate’). It is perfect for bold designs\, where there is no overlap of colour. You create and carve your design\, and then chop up the lino into sections. You then ink them up separately and place the pieces back together before printing. \nI advise you have some basic experience of lino cutting before booking this session. \n  \nTime: 9.30am to 12.30pm (3 hours) \nDate: Sunday 17th September 2023 \nVenue: Jessopp Road Scout Hut\, Jessopp Road\, Norwich\, NR2 3JF \nDesign: We will be designing\, cutting and printing a 10 x 15cm softcut lino in two colours. You will then use this to create some beautiful prints. \nIncluded: All materials are provided – cutters\, ink\, rollers\, paper etc. There is free parking on site. \nRefreshments: There will be some delicious cake and tea/coffee also included in the price. Please let me know if you have any allergies or intolerances at least one week before the session. \n  \nIf you have a basic grasp of lino cut and would like to take the next step from printing in one colour\, this workshop is a perfect progression. I’ll talk you through every stage and will offer group and individual support throughout the session. \nYou will be amazed at just how talented you are! \n  \nIf you have any questions before booking please get in touch. \nHope to see you there! \nP.S. Cake will be provided by Holliewould’s Kitchen – www.instagram.com/holliewoulds_kitchen
URL:http://safibutlerart.co.uk/event/lino-printing-workshop-create-a-jigsaw-cut/
LOCATION:Jessopp Rd Scout Hut\, Norwich\, Jessopp Road\, Norwich\, Norfolk\, NR2 3JF\, United Kingdom
END:VEVENT
END:VCALENDAR