BEGIN:VCALENDAR
VERSION:2.0
PRODID:-//Safi Butler - ECPv5.8.1//NONSGML v1.0//EN
CALSCALE:GREGORIAN
METHOD:PUBLISH
X-WR-CALNAME:Safi Butler
X-ORIGINAL-URL:http://safibutlerart.co.uk
X-WR-CALDESC:Events for Safi Butler
BEGIN:VTIMEZONE
TZID:Europe/London
BEGIN:DAYLIGHT
TZOFFSETFROM:+0000
TZOFFSETTO:+0100
TZNAME:BST
DTSTART:20190331T010000
END:DAYLIGHT
BEGIN:STANDARD
TZOFFSETFROM:+0100
TZOFFSETTO:+0000
TZNAME:GMT
DTSTART:20191027T010000
END:STANDARD
END:VTIMEZONE
BEGIN:VEVENT
DTSTART;TZID=Europe/London:20190504T100000
DTEND;TZID=Europe/London:20190504T130000
DTSTAMP:20260420T175934
CREATED:20190501T115023Z
LAST-MODIFIED:20190501T115024Z
UID:176-1556964000-1556974800@safibutlerart.co.uk
SUMMARY:Lino Print Workshop - Norwich
DESCRIPTION:A 3 hour workshop to design\, cut and print a small square (7.5 x 7.5cm) lino print. \nThis workshop is perfect for beginners as well as those who have previous experience. We’ll use simple techniques to create something you are proud of! This workshop gives you the skills you need for table-top lino cut printmaking at home. You’ll finish the session with 8 beautiful hand printed greeting cards of your own creation. \nFeel free to bring ideas with you\, but there will be images to work from if you need a creative helping hand.\nAll materials provided. \n(NB. Involves using sharp tools – adults only.) \nTo book\, please get in touch using the Contact page.
URL:http://safibutlerart.co.uk/event/lino-print-workshop-norwich/
LOCATION:Jenny Lind Community Space\,\, 24 Suffolk Square\, Norwich\, NR2 2AA
END:VEVENT
END:VCALENDAR