BEGIN:VCALENDAR
VERSION:2.0
PRODID:-//Safi Butler - ECPv5.8.1//NONSGML v1.0//EN
CALSCALE:GREGORIAN
METHOD:PUBLISH
X-WR-CALNAME:Safi Butler
X-ORIGINAL-URL:http://safibutlerart.co.uk
X-WR-CALDESC:Events for Safi Butler
BEGIN:VTIMEZONE
TZID:Europe/London
BEGIN:DAYLIGHT
TZOFFSETFROM:+0000
TZOFFSETTO:+0100
TZNAME:BST
DTSTART:20190331T010000
END:DAYLIGHT
BEGIN:STANDARD
TZOFFSETFROM:+0100
TZOFFSETTO:+0000
TZNAME:GMT
DTSTART:20191027T010000
END:STANDARD
END:VTIMEZONE
BEGIN:VEVENT
DTSTART;TZID=Europe/London:20190511T100000
DTEND;TZID=Europe/London:20190512T160000
DTSTAMP:20260420T163355
CREATED:20190114T150247Z
LAST-MODIFIED:20190114T150247Z
UID:143-1557568800-1557676800@safibutlerart.co.uk
SUMMARY:Fresh Artisan Market
DESCRIPTION:I’ll be having a stall at the Spring Fresh Artisan Market! \nFree Entry
URL:http://safibutlerart.co.uk/event/fresh-artisan-market/
LOCATION:The Old Shoe Factory\, St Mary's Works\, Norwich\, NR3 3AF
END:VEVENT
END:VCALENDAR